BEGIN:VCALENDAR
VERSION:2.0
PRODID:-//Tukios.com/
BEGIN:VEVENT
UID:116ca2c5-c8de-4509-ab3a-5ab50d068d27@www.purathstrand.com
DTSTAMP:20260422T222124Z
DTSTART:20260429T000000Z
DTEND:20260429T010000Z
SUMMARY:Funeral Service
DESCRIPTION:
URL:https://www.purathstrand.com/obituaries/susan-eisenbart
LOCATION:Purath Strand Funeral Home 3915 Douglas Avenue  Racine WI 53402
GEO:42.7690439;-87.8021853
END:VEVENT
END:VCALENDAR