BEGIN:VCALENDAR
VERSION:2.0
PRODID:-//Tukios.com/
BEGIN:VEVENT
UID:b474198c-4ca4-4a95-a2f5-2c76fda0b83e@www.purathstrand.com
DTSTAMP:20260422T222339Z
DTSTART:20260428T220000Z
DTEND:20260429T000000Z
SUMMARY:Visitation
DESCRIPTION:
URL:https://www.purathstrand.com/obituaries/susan-eisenbart
LOCATION:Purath Strand Funeral Home 3915 Douglas Avenue  Racine WI 53402
GEO:42.7690439;-87.8021853
END:VEVENT
END:VCALENDAR