BEGIN:VCALENDAR
VERSION:2.0
PRODID:-//Tukios.com/
BEGIN:VEVENT
UID:d0d71a61-0784-4d70-b6a0-ef56c161e960@www.purathstrand.com
DTSTAMP:20260424T200152Z
DTSTART:20260524T150000Z
DTEND:20260524T160000Z
SUMMARY:Visitation
DESCRIPTION:
URL:https://www.purathstrand.com/obituaries/robert-hart
LOCATION:Purath Strand Funeral Home 3915 Douglas Avenue  Racine WI 53402
GEO:42.7690439;-87.8021853
END:VEVENT
END:VCALENDAR