BEGIN:VCALENDAR
VERSION:2.0
PRODID:-//Tukios.com/
BEGIN:VEVENT
UID:35ec48d5-2304-4ae0-9b85-d96e9269bdfb@www.purathstrand.com
DTSTAMP:20260424T200151Z
DTSTART:20260524T160000Z
DTEND:20260524T170000Z
SUMMARY:Celebration of Life
DESCRIPTION:
URL:https://www.purathstrand.com/obituaries/robert-hart
LOCATION:Purath Strand Funeral Home 3915 Douglas Avenue  Racine WI 53402
GEO:42.7690439;-87.8021853
END:VEVENT
END:VCALENDAR