BEGIN:VCALENDAR
VERSION:2.0
PRODID:-//Tukios.com/
BEGIN:VEVENT
UID:23f16d0d-3183-4237-b8b2-4b20fb2f6db9@www.purathstrand.com
DTSTAMP:20260422T222206Z
DTSTART:20260424T150000Z
DTEND:20260424T160000Z
SUMMARY:Visitation
DESCRIPTION:
URL:https://www.purathstrand.com/obituaries/diane-margosian
LOCATION:United Lutheran Church 3825 Erie Street  Racine WI 53402
GEO:42.7679762;-87.7858753
END:VEVENT
END:VCALENDAR