BEGIN:VCALENDAR
VERSION:2.0
PRODID:-//Tukios.com/
BEGIN:VEVENT
UID:4d4d2a36-07c5-45ba-b262-6e6eaf4a824d@www.purathstrand.com
DTSTAMP:20260422T222527Z
DTSTART:20260424T160000Z
DTEND:20260424T170000Z
SUMMARY:Funeral Service
DESCRIPTION:
URL:https://www.purathstrand.com/obituaries/diane-margosian
LOCATION:United Lutheran Church 3825 Erie Street  Racine WI 53402
GEO:42.7679762;-87.7858753
END:VEVENT
END:VCALENDAR